BEGIN:VCALENDAR
VERSION:2.0
PRODID:-//The Jesus Bus - ECPv6.15.17.1//NONSGML v1.0//EN
CALSCALE:GREGORIAN
METHOD:PUBLISH
X-ORIGINAL-URL:https://jesusbus.org
X-WR-CALDESC:Events for The Jesus Bus
REFRESH-INTERVAL;VALUE=DURATION:PT1H
X-Robots-Tag:noindex
X-PUBLISHED-TTL:PT1H
BEGIN:VTIMEZONE
TZID:America/Chicago
BEGIN:DAYLIGHT
TZOFFSETFROM:-0600
TZOFFSETTO:-0500
TZNAME:CDT
DTSTART:20260308T080000
END:DAYLIGHT
BEGIN:STANDARD
TZOFFSETFROM:-0500
TZOFFSETTO:-0600
TZNAME:CST
DTSTART:20261101T070000
END:STANDARD
BEGIN:DAYLIGHT
TZOFFSETFROM:-0600
TZOFFSETTO:-0500
TZNAME:CDT
DTSTART:20270314T080000
END:DAYLIGHT
BEGIN:STANDARD
TZOFFSETFROM:-0500
TZOFFSETTO:-0600
TZNAME:CST
DTSTART:20271107T070000
END:STANDARD
BEGIN:DAYLIGHT
TZOFFSETFROM:-0600
TZOFFSETTO:-0500
TZNAME:CDT
DTSTART:20280312T080000
END:DAYLIGHT
BEGIN:STANDARD
TZOFFSETFROM:-0500
TZOFFSETTO:-0600
TZNAME:CST
DTSTART:20281105T070000
END:STANDARD
END:VTIMEZONE
BEGIN:VEVENT
DTSTART;TZID=America/Chicago:20270307T090000
DTEND;TZID=America/Chicago:20270307T140000
DTSTAMP:20260422T135403
CREATED:20241029T152309Z
LAST-MODIFIED:20241029T152311Z
UID:10000443-1804410000-1804428000@jesusbus.org
SUMMARY:Sunday Morning Bus Routes
DESCRIPTION:For adults age 18+.  Children under 18 must be accompanied by an adult.  Pickup will be between 8:30 am – 10:00 am.  Take home will be between 12:00 pm – 1:00 pm.
URL:https://jesusbus.org/event/sunday-morning-bus-routes-2/2027-03-07/
LOCATION:Green Bay First\, 1460 Shawano Ave\, Green Bay\, Wisconsin\, 54303
ATTACH;FMTTYPE=image/jpeg:https://jesusbus.org/wp-content/uploads/2019/06/Jesus-Bus-Blue.jpg
END:VEVENT
BEGIN:VEVENT
DTSTART;TZID=America/Chicago:20270314T090000
DTEND;TZID=America/Chicago:20270314T140000
DTSTAMP:20260422T135403
CREATED:20241029T152309Z
LAST-MODIFIED:20241029T152311Z
UID:10000444-1805014800-1805032800@jesusbus.org
SUMMARY:Sunday Morning Bus Routes
DESCRIPTION:For adults age 18+.  Children under 18 must be accompanied by an adult.  Pickup will be between 8:30 am – 10:00 am.  Take home will be between 12:00 pm – 1:00 pm.
URL:https://jesusbus.org/event/sunday-morning-bus-routes-2/2027-03-14/
LOCATION:Green Bay First\, 1460 Shawano Ave\, Green Bay\, Wisconsin\, 54303
ATTACH;FMTTYPE=image/jpeg:https://jesusbus.org/wp-content/uploads/2019/06/Jesus-Bus-Blue.jpg
END:VEVENT
BEGIN:VEVENT
DTSTART;TZID=America/Chicago:20270321T090000
DTEND;TZID=America/Chicago:20270321T140000
DTSTAMP:20260422T135403
CREATED:20241029T152309Z
LAST-MODIFIED:20241029T152311Z
UID:10000445-1805619600-1805637600@jesusbus.org
SUMMARY:Sunday Morning Bus Routes
DESCRIPTION:For adults age 18+.  Children under 18 must be accompanied by an adult.  Pickup will be between 8:30 am – 10:00 am.  Take home will be between 12:00 pm – 1:00 pm.
URL:https://jesusbus.org/event/sunday-morning-bus-routes-2/2027-03-21/
LOCATION:Green Bay First\, 1460 Shawano Ave\, Green Bay\, Wisconsin\, 54303
ATTACH;FMTTYPE=image/jpeg:https://jesusbus.org/wp-content/uploads/2019/06/Jesus-Bus-Blue.jpg
END:VEVENT
BEGIN:VEVENT
DTSTART;TZID=America/Chicago:20270328T090000
DTEND;TZID=America/Chicago:20270328T140000
DTSTAMP:20260422T135403
CREATED:20241029T152309Z
LAST-MODIFIED:20241029T152311Z
UID:10000446-1806224400-1806242400@jesusbus.org
SUMMARY:Sunday Morning Bus Routes
DESCRIPTION:For adults age 18+.  Children under 18 must be accompanied by an adult.  Pickup will be between 8:30 am – 10:00 am.  Take home will be between 12:00 pm – 1:00 pm.
URL:https://jesusbus.org/event/sunday-morning-bus-routes-2/2027-03-28/
LOCATION:Green Bay First\, 1460 Shawano Ave\, Green Bay\, Wisconsin\, 54303
ATTACH;FMTTYPE=image/jpeg:https://jesusbus.org/wp-content/uploads/2019/06/Jesus-Bus-Blue.jpg
END:VEVENT
END:VCALENDAR